BEGIN:VCALENDAR
VERSION:2.0
PRODID:-//Fellowship Baptist Lighthouse Church - ECPv6.15.20//NONSGML v1.0//EN
CALSCALE:GREGORIAN
METHOD:PUBLISH
X-WR-CALNAME:Fellowship Baptist Lighthouse Church
X-ORIGINAL-URL:https://fblcunadilla.com
X-WR-CALDESC:Events for Fellowship Baptist Lighthouse Church
REFRESH-INTERVAL;VALUE=DURATION:PT1H
X-Robots-Tag:noindex
X-PUBLISHED-TTL:PT1H
BEGIN:VTIMEZONE
TZID:UTC
BEGIN:STANDARD
TZOFFSETFROM:+0000
TZOFFSETTO:+0000
TZNAME:UTC
DTSTART:20170101T000000
END:STANDARD
END:VTIMEZONE
BEGIN:VEVENT
DTSTART;TZID=UTC:20180930T183000
DTEND;TZID=UTC:20180930T193000
DTSTAMP:20260423T212059
CREATED:20180830T154438Z
LAST-MODIFIED:20180830T154438Z
UID:359-1538332200-1538335800@fblcunadilla.com
SUMMARY:Evening Fellowship
DESCRIPTION:
URL:https://fblcunadilla.com/event/evening-fellowship-6/
END:VEVENT
BEGIN:VEVENT
DTSTART;TZID=UTC:20180930T110000
DTEND;TZID=UTC:20180930T123000
DTSTAMP:20260423T212059
CREATED:20180830T153635Z
LAST-MODIFIED:20180830T153635Z
UID:351-1538305200-1538310600@fblcunadilla.com
SUMMARY:Worship Service
DESCRIPTION:
URL:https://fblcunadilla.com/event/worship-service-4/
END:VEVENT
BEGIN:VEVENT
DTSTART;TZID=UTC:20180930T100000
DTEND;TZID=UTC:20180930T110000
DTSTAMP:20260423T212059
CREATED:20180830T154332Z
LAST-MODIFIED:20180830T154332Z
UID:357-1538301600-1538305200@fblcunadilla.com
SUMMARY:Sunday School
DESCRIPTION:
URL:https://fblcunadilla.com/event/sunday-school-6/
END:VEVENT
BEGIN:VEVENT
DTSTART;TZID=UTC:20180926T183000
DTEND;TZID=UTC:20180926T193000
DTSTAMP:20260423T212059
CREATED:20180830T155023Z
LAST-MODIFIED:20180830T155023Z
UID:365-1537986600-1537990200@fblcunadilla.com
SUMMARY:Prayer Meeting
DESCRIPTION:
URL:https://fblcunadilla.com/event/prayer-meeting-3/
END:VEVENT
BEGIN:VEVENT
DTSTART;TZID=UTC:20180925T100000
DTEND;TZID=UTC:20180925T120000
DTSTAMP:20260423T212059
CREATED:20180830T154538Z
LAST-MODIFIED:20180830T154538Z
UID:361-1537869600-1537876800@fblcunadilla.com
SUMMARY:Ladies Bible Study
DESCRIPTION:
URL:https://fblcunadilla.com/event/ladies-bible-study-2/
END:VEVENT
BEGIN:VEVENT
DTSTART;TZID=UTC:20180923T183000
DTEND;TZID=UTC:20180923T193000
DTSTAMP:20260423T212059
CREATED:20180830T153454Z
LAST-MODIFIED:20180830T153454Z
UID:349-1537727400-1537731000@fblcunadilla.com
SUMMARY:Evening Fellowship
DESCRIPTION:
URL:https://fblcunadilla.com/event/evening-fellowship-4/
END:VEVENT
BEGIN:VEVENT
DTSTART;TZID=UTC:20180923T110000
DTEND;TZID=UTC:20180923T123000
DTSTAMP:20260423T212059
CREATED:20180830T153202Z
LAST-MODIFIED:20180830T153202Z
UID:346-1537700400-1537705800@fblcunadilla.com
SUMMARY:Worship Service
DESCRIPTION:
URL:https://fblcunadilla.com/event/worship-service-3/
END:VEVENT
BEGIN:VEVENT
DTSTART;TZID=UTC:20180923T100000
DTEND;TZID=UTC:20180923T110000
DTSTAMP:20260423T212059
CREATED:20180830T153045Z
LAST-MODIFIED:20180830T153045Z
UID:344-1537696800-1537700400@fblcunadilla.com
SUMMARY:Sunday School
DESCRIPTION:
URL:https://fblcunadilla.com/event/sunday-school-5/
END:VEVENT
BEGIN:VEVENT
DTSTART;TZID=UTC:20180919T183000
DTEND;TZID=UTC:20180919T193000
DTSTAMP:20260423T212100
CREATED:20180830T155236Z
LAST-MODIFIED:20180830T155236Z
UID:368-1537381800-1537385400@fblcunadilla.com
SUMMARY:Prayer Meeting
DESCRIPTION:
URL:https://fblcunadilla.com/event/prayer-meeting-4/
END:VEVENT
BEGIN:VEVENT
DTSTART;TZID=UTC:20180918T100000
DTEND;TZID=UTC:20180918T120000
DTSTAMP:20260423T212100
CREATED:20180830T153732Z
LAST-MODIFIED:20180830T153956Z
UID:353-1537264800-1537272000@fblcunadilla.com
SUMMARY:Ladies Bible Study
DESCRIPTION:
URL:https://fblcunadilla.com/event/evening-fellowship-5/
END:VEVENT
BEGIN:VEVENT
DTSTART;TZID=UTC:20180916T183000
DTEND;TZID=UTC:20180916T193000
DTSTAMP:20260423T212100
CREATED:20180830T152805Z
LAST-MODIFIED:20180830T152805Z
UID:342-1537122600-1537126200@fblcunadilla.com
SUMMARY:Evening Fellowship
DESCRIPTION:
URL:https://fblcunadilla.com/event/evening-fellowship-3/
END:VEVENT
BEGIN:VEVENT
DTSTART;TZID=UTC:20180916T110000
DTEND;TZID=UTC:20180916T110000
DTSTAMP:20260423T212100
CREATED:20180830T150206Z
LAST-MODIFIED:20180830T150304Z
UID:330-1537095600-1537095600@fblcunadilla.com
SUMMARY:Worship
DESCRIPTION:
URL:https://fblcunadilla.com/event/worship/
END:VEVENT
BEGIN:VEVENT
DTSTART;TZID=UTC:20180916T080000
DTEND;TZID=UTC:20180916T080000
DTSTAMP:20260423T212100
CREATED:20180830T150358Z
LAST-MODIFIED:20180830T150425Z
UID:332-1537084800-1537084800@fblcunadilla.com
SUMMARY:Sunday School
DESCRIPTION:
URL:https://fblcunadilla.com/event/sunday-school-3/
END:VEVENT
BEGIN:VEVENT
DTSTART;TZID=UTC:20180912T183000
DTEND;TZID=UTC:20180912T193000
DTSTAMP:20260423T212100
CREATED:20180830T154814Z
LAST-MODIFIED:20180830T154814Z
UID:363-1536777000-1536780600@fblcunadilla.com
SUMMARY:Prayer Meeting
DESCRIPTION:
URL:https://fblcunadilla.com/event/prayer-meeting-2/
END:VEVENT
BEGIN:VEVENT
DTSTART;TZID=UTC:20180911T100000
DTEND;TZID=UTC:20180911T120000
DTSTAMP:20260423T212100
CREATED:20180830T152424Z
LAST-MODIFIED:20180830T152424Z
UID:338-1536660000-1536667200@fblcunadilla.com
SUMMARY:Ladies Bible Study
DESCRIPTION:
URL:https://fblcunadilla.com/event/ladies-bible-study/
END:VEVENT
BEGIN:VEVENT
DTSTART;TZID=UTC:20180909T183000
DTEND;TZID=UTC:20180909T193000
DTSTAMP:20260423T212100
CREATED:20180830T152242Z
LAST-MODIFIED:20180830T152242Z
UID:336-1536517800-1536521400@fblcunadilla.com
SUMMARY:Evening Fellowship
DESCRIPTION:
URL:https://fblcunadilla.com/event/evening-fellowship-2/
END:VEVENT
BEGIN:VEVENT
DTSTART;TZID=UTC:20180909T110000
DTEND;TZID=UTC:20180909T123000
DTSTAMP:20260423T212100
CREATED:20180830T150701Z
LAST-MODIFIED:20180830T150701Z
UID:334-1536490800-1536496200@fblcunadilla.com
SUMMARY:Worship
DESCRIPTION:
URL:https://fblcunadilla.com/event/worship-2/
END:VEVENT
BEGIN:VEVENT
DTSTART;TZID=UTC:20180909T100000
DTEND;TZID=UTC:20180909T110000
DTSTAMP:20260423T212100
CREATED:20180830T152654Z
LAST-MODIFIED:20180830T152654Z
UID:340-1536487200-1536490800@fblcunadilla.com
SUMMARY:Sunday School
DESCRIPTION:
URL:https://fblcunadilla.com/event/sunday-school-4/
END:VEVENT
BEGIN:VEVENT
DTSTART;TZID=UTC:20180905T063000
DTEND;TZID=UTC:20180905T193000
DTSTAMP:20260423T212100
CREATED:20180829T202820Z
LAST-MODIFIED:20180829T203604Z
UID:307-1536129000-1536175800@fblcunadilla.com
SUMMARY:Prayer Meeting
DESCRIPTION:
URL:https://fblcunadilla.com/event/prayer-meeting/
END:VEVENT
BEGIN:VEVENT
DTSTART;TZID=UTC:20180904T100000
DTEND;TZID=UTC:20180904T100000
DTSTAMP:20260423T212100
CREATED:20180829T202959Z
LAST-MODIFIED:20180829T203848Z
UID:309-1536055200-1536055200@fblcunadilla.com
SUMMARY:Ladies Bible Study
DESCRIPTION:
URL:https://fblcunadilla.com/event/worship-service/
END:VEVENT
BEGIN:VEVENT
DTSTART;TZID=UTC:20180902T183000
DTEND;TZID=UTC:20180902T193000
DTSTAMP:20260423T212100
CREATED:20180829T205315Z
LAST-MODIFIED:20180829T205931Z
UID:318-1535913000-1535916600@fblcunadilla.com
SUMMARY:Evening Fellowship
DESCRIPTION:
URL:https://fblcunadilla.com/event/evening-fellowship/
END:VEVENT
BEGIN:VEVENT
DTSTART;TZID=UTC:20180902T110000
DTEND;TZID=UTC:20180902T123000
DTSTAMP:20260423T212100
CREATED:20180829T204912Z
LAST-MODIFIED:20180829T205819Z
UID:316-1535886000-1535891400@fblcunadilla.com
SUMMARY:Worship Service
DESCRIPTION:
URL:https://fblcunadilla.com/event/worship-service-2/
END:VEVENT
BEGIN:VEVENT
DTSTART;TZID=UTC:20180902T100000
DTEND;TZID=UTC:20180902T110000
DTSTAMP:20260423T212100
CREATED:20180829T204621Z
LAST-MODIFIED:20180829T205533Z
UID:314-1535882400-1535886000@fblcunadilla.com
SUMMARY:Sunday School
DESCRIPTION:
URL:https://fblcunadilla.com/event/sunday-school-2/
END:VEVENT
BEGIN:VEVENT
DTSTART;TZID=UTC:20180829T183000
DTEND;TZID=UTC:20180829T193000
DTSTAMP:20260423T212100
CREATED:20180829T200459Z
LAST-MODIFIED:20180829T204235Z
UID:303-1535567400-1535571000@fblcunadilla.com
SUMMARY:Prayer Meeting
DESCRIPTION:
URL:https://fblcunadilla.com/event/sunday-school/
END:VEVENT
END:VCALENDAR