BEGIN:VCALENDAR
VERSION:2.0
PRODID:-//Fellowship Baptist Lighthouse Church - ECPv6.15.20//NONSGML v1.0//EN
CALSCALE:GREGORIAN
METHOD:PUBLISH
X-WR-CALNAME:Fellowship Baptist Lighthouse Church
X-ORIGINAL-URL:https://fblcunadilla.com
X-WR-CALDESC:Events for Fellowship Baptist Lighthouse Church
REFRESH-INTERVAL;VALUE=DURATION:PT1H
X-Robots-Tag:noindex
X-PUBLISHED-TTL:PT1H
BEGIN:VTIMEZONE
TZID:UTC
BEGIN:STANDARD
TZOFFSETFROM:+0000
TZOFFSETTO:+0000
TZNAME:UTC
DTSTART:20190101T000000
END:STANDARD
END:VTIMEZONE
BEGIN:VEVENT
DTSTART;TZID=UTC:20210131T183000
DTEND;TZID=UTC:20210131T193000
DTSTAMP:20260423T165808
CREATED:20210112T171110Z
LAST-MODIFIED:20210112T171330Z
UID:655-1612117800-1612121400@fblcunadilla.com
SUMMARY:Evening service
DESCRIPTION:Located in the fellowship hall.
URL:https://fblcunadilla.com/event/evening-service-3/
END:VEVENT
BEGIN:VEVENT
DTSTART;TZID=UTC:20210131T110000
DTEND;TZID=UTC:20210131T120000
DTSTAMP:20260423T165808
CREATED:20210112T170854Z
LAST-MODIFIED:20210112T170854Z
UID:653-1612090800-1612094400@fblcunadilla.com
SUMMARY:Morning worship service
DESCRIPTION:
URL:https://fblcunadilla.com/event/morning-worship-service-7/
END:VEVENT
BEGIN:VEVENT
DTSTART;TZID=UTC:20210131T100000
DTEND;TZID=UTC:20210131T110000
DTSTAMP:20260423T165808
CREATED:20210112T170657Z
LAST-MODIFIED:20210112T170657Z
UID:651-1612087200-1612090800@fblcunadilla.com
SUMMARY:Sunday school
DESCRIPTION:
URL:https://fblcunadilla.com/event/sunday-school-13/
END:VEVENT
BEGIN:VEVENT
DTSTART;TZID=UTC:20210127T183000
DTEND;TZID=UTC:20210127T193000
DTSTAMP:20260423T165808
CREATED:20210112T171506Z
LAST-MODIFIED:20210112T171506Z
UID:658-1611772200-1611775800@fblcunadilla.com
SUMMARY:Mid-week prayer meeting and Bible study
DESCRIPTION:Located in the fellowship hall.
URL:https://fblcunadilla.com/event/mid-week-prayer-meeting-and-bible-study-2/
END:VEVENT
BEGIN:VEVENT
DTSTART;TZID=UTC:20210124T183000
DTEND;TZID=UTC:20210124T193000
DTSTAMP:20260423T165808
CREATED:20210112T170334Z
LAST-MODIFIED:20210112T170334Z
UID:647-1611513000-1611516600@fblcunadilla.com
SUMMARY:Evening service
DESCRIPTION:Located in the fellowship hall.
URL:https://fblcunadilla.com/event/evening-service-2/
END:VEVENT
BEGIN:VEVENT
DTSTART;TZID=UTC:20210124T110000
DTEND;TZID=UTC:20210124T120000
DTSTAMP:20260423T165808
CREATED:20210112T170218Z
LAST-MODIFIED:20210112T170218Z
UID:645-1611486000-1611489600@fblcunadilla.com
SUMMARY:Morning worship service
DESCRIPTION:
URL:https://fblcunadilla.com/event/morning-worship-service-6/
END:VEVENT
BEGIN:VEVENT
DTSTART;TZID=UTC:20210124T100000
DTEND;TZID=UTC:20210124T110000
DTSTAMP:20260423T165808
CREATED:20210112T170126Z
LAST-MODIFIED:20210112T170126Z
UID:643-1611482400-1611486000@fblcunadilla.com
SUMMARY:Sunday school
DESCRIPTION:
URL:https://fblcunadilla.com/event/sunday-school-12/
END:VEVENT
BEGIN:VEVENT
DTSTART;TZID=UTC:20210120T183000
DTEND;TZID=UTC:20210120T193000
DTSTAMP:20260423T165808
CREATED:20210112T170601Z
LAST-MODIFIED:20210112T170601Z
UID:649-1611167400-1611171000@fblcunadilla.com
SUMMARY:Mid-week prayer meeting and Bible study
DESCRIPTION:Located in the fellowship hall. (Quarterly business meeting)
URL:https://fblcunadilla.com/event/mid-week-prayer-meeting-and-bible-study/
END:VEVENT
BEGIN:VEVENT
DTSTART;TZID=UTC:20210117T183000
DTEND;TZID=UTC:20210117T193000
DTSTAMP:20260423T165808
CREATED:20210112T165808Z
LAST-MODIFIED:20210112T170024Z
UID:638-1610908200-1610911800@fblcunadilla.com
SUMMARY:Evening service
DESCRIPTION:Located in the fellowship hall.
URL:https://fblcunadilla.com/event/evening-service/
END:VEVENT
BEGIN:VEVENT
DTSTART;TZID=UTC:20210117T110000
DTEND;TZID=UTC:20210117T120000
DTSTAMP:20260423T165808
CREATED:20210112T165725Z
LAST-MODIFIED:20210112T165725Z
UID:636-1610881200-1610884800@fblcunadilla.com
SUMMARY:Morning worship service
DESCRIPTION:
URL:https://fblcunadilla.com/event/morning-worship-service-5/
END:VEVENT
BEGIN:VEVENT
DTSTART;TZID=UTC:20210117T100000
DTEND;TZID=UTC:20210117T110000
DTSTAMP:20260423T165808
CREATED:20210112T165621Z
LAST-MODIFIED:20210112T165621Z
UID:634-1610877600-1610881200@fblcunadilla.com
SUMMARY:Sunday school
DESCRIPTION:
URL:https://fblcunadilla.com/event/sunday-school-11/
END:VEVENT
BEGIN:VEVENT
DTSTART;TZID=UTC:20210113T183000
DTEND;TZID=UTC:20210113T193000
DTSTAMP:20260423T165808
CREATED:20210112T165905Z
LAST-MODIFIED:20210112T165905Z
UID:640-1610562600-1610566200@fblcunadilla.com
SUMMARY:Mid-week prayer meeting & Bible study
DESCRIPTION:Located in fellowship hall.
URL:https://fblcunadilla.com/event/mid-week-prayer-meeting-bible-study/
END:VEVENT
BEGIN:VEVENT
DTSTART;TZID=UTC:20201230T183000
DTEND;TZID=UTC:20201230T200000
DTSTAMP:20260423T165808
CREATED:20201203T154304Z
LAST-MODIFIED:20201203T154304Z
UID:603-1609353000-1609358400@fblcunadilla.com
SUMMARY:Wednesday prayer meeting/Bible study
DESCRIPTION:located in the church fellowship hall.
URL:https://fblcunadilla.com/event/wednesday-prayer-meeting-bible-study-3/
END:VEVENT
BEGIN:VEVENT
DTSTART;TZID=UTC:20201227T183000
DTEND;TZID=UTC:20201227T193000
DTSTAMP:20260423T165808
CREATED:20201203T154547Z
LAST-MODIFIED:20201203T154547Z
UID:609-1609093800-1609097400@fblcunadilla.com
SUMMARY:Evening worship service
DESCRIPTION:located in the church fellowship hall.
URL:https://fblcunadilla.com/event/evening-worship-service-4/
END:VEVENT
BEGIN:VEVENT
DTSTART;TZID=UTC:20201227T110000
DTEND;TZID=UTC:20201227T120000
DTSTAMP:20260423T165808
CREATED:20201203T154502Z
LAST-MODIFIED:20201203T154502Z
UID:607-1609066800-1609070400@fblcunadilla.com
SUMMARY:Morning worship service
DESCRIPTION:
URL:https://fblcunadilla.com/event/morning-worship-service-4/
END:VEVENT
BEGIN:VEVENT
DTSTART;TZID=UTC:20201227T100000
DTEND;TZID=UTC:20201227T110000
DTSTAMP:20260423T165808
CREATED:20201203T154404Z
LAST-MODIFIED:20201203T154404Z
UID:605-1609063200-1609066800@fblcunadilla.com
SUMMARY:Sunday School
DESCRIPTION:
URL:https://fblcunadilla.com/event/sunday-school-10/
END:VEVENT
BEGIN:VEVENT
DTSTART;TZID=UTC:20201224T183000
DTEND;TZID=UTC:20201224T193000
DTSTAMP:20260423T165808
CREATED:20201203T153631Z
LAST-MODIFIED:20201203T154201Z
UID:591-1608834600-1608838200@fblcunadilla.com
SUMMARY:Christmas Eve Service
DESCRIPTION:located in church auditorium.
URL:https://fblcunadilla.com/event/christmas-eve-service/
END:VEVENT
BEGIN:VEVENT
DTSTART;TZID=UTC:20201220T183000
DTEND;TZID=UTC:20201220T193000
DTSTAMP:20260423T165808
CREATED:20201203T154033Z
LAST-MODIFIED:20201203T154033Z
UID:599-1608489000-1608492600@fblcunadilla.com
SUMMARY:Evening worship service
DESCRIPTION:located in church fellowship hall.
URL:https://fblcunadilla.com/event/evening-worship-service-3/
END:VEVENT
BEGIN:VEVENT
DTSTART;TZID=UTC:20201220T110000
DTEND;TZID=UTC:20201220T120000
DTSTAMP:20260423T165808
CREATED:20201203T153816Z
LAST-MODIFIED:20201203T153816Z
UID:595-1608462000-1608465600@fblcunadilla.com
SUMMARY:Morning worship service
DESCRIPTION:
URL:https://fblcunadilla.com/event/morning-worship-service-3/
END:VEVENT
BEGIN:VEVENT
DTSTART;TZID=UTC:20201220T100000
DTEND;TZID=UTC:20201220T110000
DTSTAMP:20260423T165808
CREATED:20201203T153710Z
LAST-MODIFIED:20201203T153710Z
UID:593-1608458400-1608462000@fblcunadilla.com
SUMMARY:Sunday School
DESCRIPTION:
URL:https://fblcunadilla.com/event/sunday-school-9/
END:VEVENT
BEGIN:VEVENT
DTSTART;TZID=UTC:20201216T183000
DTEND;TZID=UTC:20201216T200000
DTSTAMP:20260423T165808
CREATED:20201203T153918Z
LAST-MODIFIED:20201203T154114Z
UID:597-1608143400-1608148800@fblcunadilla.com
SUMMARY:Wednesday prayer meeting/Bible study
DESCRIPTION:located in the church fellowship hall.
URL:https://fblcunadilla.com/event/wednesday-prayer-meeting-bible-study-2/
END:VEVENT
BEGIN:VEVENT
DTSTART;TZID=UTC:20201213T183000
DTEND;TZID=UTC:20201213T193000
DTSTAMP:20260423T165808
CREATED:20201203T153323Z
LAST-MODIFIED:20201203T153323Z
UID:587-1607884200-1607887800@fblcunadilla.com
SUMMARY:Evening worship service
DESCRIPTION:located in church fellowship hall.
URL:https://fblcunadilla.com/event/evening-worship-service-2/
END:VEVENT
BEGIN:VEVENT
DTSTART;TZID=UTC:20201213T110000
DTEND;TZID=UTC:20201213T120000
DTSTAMP:20260423T165808
CREATED:20201203T153132Z
LAST-MODIFIED:20201203T153132Z
UID:585-1607857200-1607860800@fblcunadilla.com
SUMMARY:Morning worship service
DESCRIPTION:
URL:https://fblcunadilla.com/event/morning-worship-service-2/
END:VEVENT
BEGIN:VEVENT
DTSTART;TZID=UTC:20201213T100000
DTEND;TZID=UTC:20201213T110000
DTSTAMP:20260423T165808
CREATED:20201203T152955Z
LAST-MODIFIED:20201203T153015Z
UID:583-1607853600-1607857200@fblcunadilla.com
SUMMARY:Sunday School
DESCRIPTION:
URL:https://fblcunadilla.com/event/sunday-school-8/
END:VEVENT
BEGIN:VEVENT
DTSTART;TZID=UTC:20201209T183000
DTEND;TZID=UTC:20201209T200000
DTSTAMP:20260423T165808
CREATED:20201203T153452Z
LAST-MODIFIED:20201203T153452Z
UID:589-1607538600-1607544000@fblcunadilla.com
SUMMARY:Wednesday prayer meeting/Bible study
DESCRIPTION:located in the church fellowship hall.
URL:https://fblcunadilla.com/event/wednesday-prayer-meeting-bible-study/
END:VEVENT
BEGIN:VEVENT
DTSTART;TZID=UTC:20201206T183000
DTEND;TZID=UTC:20201206T193000
DTSTAMP:20260423T165808
CREATED:20201127T194941Z
LAST-MODIFIED:20201127T194941Z
UID:566-1607279400-1607283000@fblcunadilla.com
SUMMARY:Evening worship service
DESCRIPTION:located in the fellowship hall.
URL:https://fblcunadilla.com/event/evening-worship-service/
END:VEVENT
BEGIN:VEVENT
DTSTART;TZID=UTC:20201206T110000
DTEND;TZID=UTC:20201206T120000
DTSTAMP:20260423T165808
CREATED:20201127T194849Z
LAST-MODIFIED:20201127T194849Z
UID:564-1607252400-1607256000@fblcunadilla.com
SUMMARY:Morning worship service
DESCRIPTION:
URL:https://fblcunadilla.com/event/morning-worship-service/
END:VEVENT
BEGIN:VEVENT
DTSTART;TZID=UTC:20201206T100000
DTEND;TZID=UTC:20201206T110000
DTSTAMP:20260423T165808
CREATED:20201127T194810Z
LAST-MODIFIED:20201127T194810Z
UID:562-1607248800-1607252400@fblcunadilla.com
SUMMARY:Sunday School
DESCRIPTION:
URL:https://fblcunadilla.com/event/sunday-school-7/
END:VEVENT
BEGIN:VEVENT
DTSTART;TZID=UTC:20201202T183000
DTEND;TZID=UTC:20201202T193000
DTSTAMP:20260423T165808
CREATED:20201127T194706Z
LAST-MODIFIED:20201127T194706Z
UID:560-1606933800-1606937400@fblcunadilla.com
SUMMARY:Prayer meeting and Bible study
DESCRIPTION:
URL:https://fblcunadilla.com/event/prayer-meeting-and-bible-study/
END:VEVENT
BEGIN:VEVENT
DTSTART;TZID=UTC:20201129T110000
DTEND;TZID=UTC:20201129T120000
DTSTAMP:20260423T165808
CREATED:20201127T194554Z
LAST-MODIFIED:20201127T194554Z
UID:557-1606647600-1606651200@fblcunadilla.com
SUMMARY:Morning Worship
DESCRIPTION:
URL:https://fblcunadilla.com/event/morning-worship/
END:VEVENT
END:VCALENDAR